BEGIN:VCALENDAR
VERSION:2.0
PRODID:-//wp-events-plugin.com//7.2.3.1//EN
TZID:Europe/London
X-WR-TIMEZONE:Europe/London
BEGIN:VEVENT
UID:71@donaghadeesc.co.uk
DTSTART:20180806T090000Z
DTEND:20180810T163000Z
DTSTAMP:20180703T215410Z
URL:https://www.donaghadeesc.co.uk/events/youth-rya-stage-12-4/
SUMMARY:Youth RYA Stage 1&2
DESCRIPTION:Youth RYA Stage 1&amp\;2 Course - 5 days.\n\nNo previous experi
 ence required.
CATEGORIES:Junior Sailing Course
LOCATION:\, 
X-APPLE-STRUCTURED-LOCATION;VALUE=URI;X-ADDRESS=\, ;X-APPLE-RADIUS=100;X-TI
 TLE=:geo:0,0
END:VEVENT
END:VCALENDAR