BEGIN:VCALENDAR
VERSION:2.0
PRODID:-//wp-events-plugin.com//7.2.3.1//EN
TZID:Europe/London
X-WR-TIMEZONE:Europe/London
BEGIN:VEVENT
UID:1110@donaghadeesc.co.uk
DTSTART:20260725T090000Z
DTEND:20260726T180000Z
DTSTAMP:20260401T114640Z
URL:https://www.donaghadeesc.co.uk/events/topper-sprints-2026/
SUMMARY:Donaghadee Topper Sprints Challenge 2026
DESCRIPTION:\nWelcome to Donaghadee Sailing Club's fun filled TOPPER SPRINT
  challenge.\nBack for 2026! (July 25 &amp\; 26th)\n\nENTRY NOW OPEN.    
  (More details\, including NOR &amp\; SIs at bottom of this page.)\nNot t
 ravelling to the Topper Worlds or UK Nationals???\nWhich means you’ve go
 t an 8 week gap in your event calendar!!!\nSad times indeed.\nBut fear not
 \, Donaghadee Sailing Club has you covered.\nWe are hosting an event in th
 e middle of that 8 week gap.\nBut let’s mix it up a little and have a SP
 RINT event. \nIt's been a few years since we've been able to run this eve
 nt for the Topper Class\, but we're back for 2026 with a bang!\nSo come al
 ong to Donaghadee\, race in this fast paced\, full filled challenge.\n\nTh
 e emphasis of the Topper SPRINT challenge at DSC is on a fun filled learni
 ng experience\, it is rather different to that of a normal traveller race 
 day or weekend. It's all about getting practise at starts\, mark rounding\
 , finishes\, making new friends &amp\; having fun\, so whether you are a s
 easoned racer or just starting out on your Topper journey this event is fo
 r you!\n\nDSC has hosted these SPRINT events in the past. (Just ask your o
 lder siblings how much fun they were.) On previous years we saw 90+ starts
  across the whole fleet\, with short\, close racing with the race area in 
 Donaghadee Bay. This\, close to shore race area\, allows for spectacular v
 iewing either from the clubhouse or the promenade.\n\nSaturday: Boats will
  be split into flights (mini fleets) of 5-6 topper sailors per fleet. Satu
 rday will be a quickfire series of back-to-back races\, with a start signa
 l and flag approximately every 3 minutes for a new race.\nThe individual r
 ace durations are planned to take between 10-15min to complete before you 
 line up again for the next race. Meaning each participant will have around
  10 short races over the whole day.\nSunday: The competitors will be once 
 again be split/ranked into new Gold\, Silver &amp\; Bronze fleets (based o
 n Saturdays results) for Sundays GRAND FINALS.\nThis ranking means\, every
 one of all abilities will get a chance to win their category. It should be
  a good few days fun!\n\nIt is a great opportunity to try something new. 
 \n\nAn event where consistency is the key to success.\n\nNumbers will be l
 imited and entries must be booked &amp\; paid for via the link below.\n\n&
 nbsp\;\n\nCOMING SOON…\n\nNOTICE OF RACE is available here:        
          DSC-2026-TOPPER SPRINT CHALLENGE-NOR\n\nSAILING INSTRUCTIONS
  are available here:  DSC-2026-TOPPER SPRINT CHALLENGE-SIs\n\nSUPPORT BOA
 TS must be registered here:   DSC-2026-TOPPER SPRINT CHALLENGE-SUPPORTBO
 AT\n\n\n\nAdditional Info:\n\n 	Boat drop off from FRIDAY EVENING\, July 2
 4th.\n 	The Clubhouse &amp\; Bar will be open throughout the weekend\, inc
 luding on the Friday night. You will be very welcome.\n 	Registration will
  be in the Clubhouse on FRIDAY (evening\, time tbc) and SATURDAY (morning\
 , time tbc)\n 	VISITING RIBS: A small number of moorings will be available
  in the harbour for visiting ribs. **this must be pre-booked with Stuart**
 \n 	Accommodation\n\n 	CAMPING can be arranged upon request.\n 	MOTORHOME 
 parking available throughout Donaghadee. The clubhouse has visitor toilet/
 shower and kitchen facilities\, which will be available 24hrs/day.\n 	ACCO
 MODATION there are many B&amp\;Bs\, Air B&amp\;Bs etc available in Donagha
 dee and the surrounding area. Just Google Donaghadee\, accommodation. For 
 your convenience\, we have listed a few below\n\n 	Pier 36: https://pier36
 .co.uk/\n 	One Shore Street: https://oneshorestreet.co.uk/\n 	The Secret 
 Garden: https://www.thesecretgardendonaghadee.co.uk/\n 	Self Catering www.
 bedroomvillas.com/donghadee\n\n\n\n\n\n\n 	\n 	All further details will be
  available in the NOR &amp\; SIs in due course.\n 	A prize BEST OVERALL CL
 UB club will be awarded. (Total club points\, divided by club entries. Any
  tie will be determined by single top score)\n 	Entries open to both 5.3 &
 amp\; 4.2 rigs\n 	A Regatta Fleet will be considered closer to the event d
 ates\, subject to weather forecasts. This will be open to all. Club traini
 ng boats will be available to members FOC and to non-member for a nominal 
 fee.\n 	As this event coincides with the Topper Worlds\, this event is not
  counted in the Topper Ireland overall ranking results for the year.\n 	Fo
 r more information please contact Stuart Ogg - 07714262223 or stuart@consu
 ltav.com\n
ATTACH;FMTTYPE=image/jpeg:https://www.donaghadeesc.co.uk/wp-content/upload
 s/2021/07/Toppers-on-Donaghadee-slipway.jpg
CATEGORIES:Open Championships
LOCATION:Donaghadee Sailing Club\, 20 Shore Street\, Donaghadee\, Co Down\,
  BT21 0DG
GEO:54.643929;-5.538809
X-APPLE-STRUCTURED-LOCATION;VALUE=URI;X-ADDRESS=20 Shore Street\, Donaghade
 e\, Co Down\, BT21 0DG\, United Kingdom;X-APPLE-RADIUS=100;X-TITLE=Donagha
 dee Sailing Club:geo:54.643929,-5.538809
END:VEVENT
END:VCALENDAR