BEGIN:VCALENDAR
VERSION:2.0
PRODID:-//wp-events-plugin.com//7.2.3.1//EN
TZID:Europe/London
X-WR-TIMEZONE:Europe/London
BEGIN:VEVENT
UID:834@donaghadeesc.co.uk
DTSTART:20240818T130000Z
DTEND:20240818T160000Z
DTSTAMP:20240222T162743Z
URL:https://www.donaghadeesc.co.uk/events/sunday-summer-series-dsc-club-di
 nghy-racing10/
SUMMARY:Sunday Summer Series - DSC Club Dinghy Racing
DESCRIPTION:Spend a pleasant Sunday Afternoon - racing around the cans in D
 onaghadee Bay! DSC Club Racing Series.
ATTACH;FMTTYPE=image/jpeg:https://www.donaghadeesc.co.uk/wp-content/upload
 s/2020/06/FB_IMG_1593101733105-e1665332161441.jpg
CATEGORIES:Club Racing
LOCATION:\, 
X-APPLE-STRUCTURED-LOCATION;VALUE=URI;X-ADDRESS=\, ;X-APPLE-RADIUS=100;X-TI
 TLE=:geo:0,0
END:VEVENT
END:VCALENDAR