BEGIN:VCALENDAR
VERSION:2.0
PRODID:-//wp-events-plugin.com//7.2.3.1//EN
TZID:Europe/London
X-WR-TIMEZONE:Europe/London
BEGIN:VEVENT
UID:1187@donaghadeesc.co.uk
DTSTART;VALUE=DATE:20261031
DTEND;VALUE=DATE:20261101
DTSTAMP:20260419T084100Z
URL:https://www.donaghadeesc.co.uk/events/spring-summer-dinghy-park-fees-2
 6/
SUMMARY:Spring Summer Dinghy Park Fees 2026 - Members only
DESCRIPTION:NEW!  Pay for 12 months for the period April 1 2026-March 31 2
 027\nPay annually - once paid you can forget the task for 12 whole months 
 as well as reduce the Sailing Secretary's admin! \n\nIf you have or inten
 d to keep a kayak\, canoe\, dinghy\, boat\, trailer or another vessel in t
 he DSC dinghy park for all or part of the Spring Summer 2026 and optionall
 y Autumn Winter 2026/27\, please make prompt payment for your boat(s).\n\n
 Alternatively card payment can be processed in the club bar - please infor
 m the Sailing Sec when you have paid.\n\nA sticker may be issued to you by
  the Sailing Secretary (or their designated representative)\, for attachme
 nt in a prominent position on the transom of the boat once you've paid.\n\
 nSpace in the dinghy park is now tight\, before putting a boat in the ding
 hy park please ask permission from a member of the Sailing Committee first
 . If you have a boat already in the park please ensure it is parked neatly
  to enable other users to access their boats easily.\n\nRoad Trailers - wi
 th more members wanting to store their boats in the dinghy park please con
 sider taking your road trailer home so it is not taking up a space that di
 nghies can use.\n\nPeriodic checks are made for boats overstaying their te
 mporary residence without authorisation - we understand that during an eve
 nt a day or two here and there is often necessary.\n\nAll boats stored in 
 the dinghy park must be insured and owned by a current DSC member.\n\nPlea
 se select the appropriate category for payment below\, depending on the si
 ze of boat you have!\n\nPrices for 6/12 months are:\n\n\n\nBoats/Trailers 
 up to 14ft\n£39\n£78\n\n\nBoats/Trailers up to 21ft\n£50\n£100\n\n\nBo
 ats/Trailers over 21ft\nand Catamarans\n£61\n£122\n\n\nCanoes or Windsur
 fers\n£17\n£34\n\n\n\n&nbsp\;\n\nAny boat found to be consistently break
 ing the rules will be removed from the dinghy park and only returned when 
 the owner has paid the due fees\, the owner will not be permitted to sail 
 until fees owed are paid.\n\nThanks for your cooperation - DSC General Com
 mittee &amp\; Sailing Committee.
CATEGORIES:Dinghy Park
END:VEVENT
END:VCALENDAR