BEGIN:VCALENDAR
VERSION:2.0
PRODID:-//wp-events-plugin.com//7.2.3.1//EN
TZID:Europe/London
X-WR-TIMEZONE:Europe/London
BEGIN:VEVENT
UID:658@donaghadeesc.co.uk
DTSTART:20230430T090000Z
DTEND:20230430T160000Z
DTSTAMP:20230323T083422Z
URL:https://www.donaghadeesc.co.uk/events/safety-boat-refresher-for-club-m
 embers-2023-1/
SUMMARY:Safety Boat Refresher for Club Members 2023 #1
DESCRIPTION:Undertake your annual refresher training for all Club members w
 ho hold the Level 2 powerboat and or safety boat certificates\, this will 
 facilitate the safe and smooth running of activities and events.\n\nThe tr
 aining will focus on safety boat logistics\, mooring\,  fuelling\, dealin
 g with capsized boats as well as the use of the two rigiflex 'Tango's'.\n\
 nThis is a free event for DSC members\, Booking for this event is required
  for our records\, so please turn up for this informative day.\n\nRequired
  for all rescue boat helms. Hold L2 or safety boat - 2/3 2 hour sessions w
 ill be run over the day to accommodate everyone.
ATTACH;FMTTYPE=image/jpeg:https://www.donaghadeesc.co.uk/wp-content/upload
 s/2021/05/RYA_training_centre_100H.jpg
CATEGORIES:Powerboat Course
LOCATION:\, 
X-APPLE-STRUCTURED-LOCATION;VALUE=URI;X-ADDRESS=\, ;X-APPLE-RADIUS=100;X-TI
 TLE=:geo:0,0
END:VEVENT
END:VCALENDAR