BEGIN:VCALENDAR
VERSION:2.0
PRODID:-//wp-events-plugin.com//7.2.3.1//EN
TZID:Europe/London
X-WR-TIMEZONE:Europe/London
BEGIN:VEVENT
UID:1181@donaghadeesc.co.uk
DTSTART:20260727T090000Z
DTEND:20260731T163000Z
DTSTAMP:20260319T133539Z
URL:https://www.donaghadeesc.co.uk/events/rya-youth-stage-3-4-2026/
SUMMARY:RYA Youth Stage 3 &amp\; 4 2026
DESCRIPTION:Booking will open soon - to express an interest please click to
  email --&gt\; DSC Training\n\nThe first opportunity of the 2026 season fo
 r our RYA Youth Stage 3 &amp\; 4 full training courses. Open to DSC junior
  members and or any young people aged 8 - 17 years of age.\n\nThis is the 
 part of the RYA Youth National sailing scheme - An introduction to the par
 ts of the boat and the basic principles of how to get a boat sailing.\n\nO
 ptimise your time &amp\; the young people’s time on the water by combini
 ng both the RYA Youth Stage 3 &amp\; Stage 4 courses into a single week’
 s\, 5  full days course @ DSC! Obviously there may be further practise re
 quired to achieve the standard required to be awarded both stages of the q
 ualification!\n\nPlease come prepared to go afloat\, bring sun cream warm 
 hats and also a towel\, and a change of clothes for the way home in the ca
 r\, a fleece would also be useful as our classroom is heated it can be coo
 l once off the water\, and often we will use the outside space.\n\nChangin
 g and shower facilities will be available\, but please arrive ready to go 
 afloat in the mornings. Wetsuits will be available\, but must be taken hom
 e and rinsed / dried at the end of the day and returned at the end of the 
 week for sanitation.\n\nParticipants must already have their RYA Youth Sta
 ge 1&amp\;2 to join this course!\n\nPlease be aware that cancellations and
  amendments to bookings will be subject to a £20 administration fee\, can
 cellations will not be refunded until the place has been rebooked by anoth
 er participant – unless in exceptional circumstances. Apologies for enfo
 rcing this rule\, but to facilitate the course\, DSC has to employ staff a
 nd purchase documentation in advance\, and overheads are obviously involve
 d.
ATTACH;FMTTYPE=image/jpeg:https://www.donaghadeesc.co.uk/wp-content/upload
 s/2021/07/deetopper1.webp
CATEGORIES:Junior Sailing Course
END:VEVENT
END:VCALENDAR