BEGIN:VCALENDAR
VERSION:2.0
PRODID:-//wp-events-plugin.com//7.2.3.1//EN
TZID:Europe/London
X-WR-TIMEZONE:Europe/London
BEGIN:VEVENT
UID:1183@donaghadeesc.co.uk
DTSTART:20260810T090000Z
DTEND:20260814T163000Z
DTSTAMP:20260319T133718Z
URL:https://www.donaghadeesc.co.uk/events/rya-youth-stage-3-4-2026-2/
SUMMARY:RYA Youth Stage 3 &amp\; 4 2026 #2
DESCRIPTION:Booking will open soon - to express an interest please click to
  email --&gt\; DSC Training\n\nAnother opportunity in the 2026 season for 
 our RYA Youth Stage 3 &amp\; 4 full training courses. Open to DSC junior m
 embers and or any young people aged 8 - 17 years of age.\n\nThis is the pa
 rt of the RYA Youth National sailing scheme - An introduction to the parts
  of the boat and the basic principles of how to get a boat sailing.\n\nOpt
 imise your time &amp\; the young people’s time on the water by combining
  both the RYA Youth Stage 3 &amp\; Stage 4 courses into a single week’s\
 , 5  full days course @ DSC! Obviously there may be further practise requ
 ired to achieve the standard required to be awarded both stages of the qua
 lification!\n\nPlease come prepared to go afloat\, bring sun cream warm ha
 ts and also a towel\, and a change of clothes for the way home in the car\
 , a fleece would also be useful as our classroom is heated it can be cool 
 once off the water\, and often we will use the outside space.\n\nChanging 
 and shower facilities will be available\, but please arrive ready to go af
 loat in the mornings. Wetsuits will be available\, but must be taken home 
 and rinsed / dried at the end of the day and returned at the end of the we
 ek for sanitation.\n\nParticipants must already have their RYA Youth Stage
  1&amp\;2 to join this course!\n\nPlease be aware that cancellations and a
 mendments to bookings will be subject to a £20 administration fee\, cance
 llations will not be refunded until the place has been rebooked by another
  participant – unless in exceptional circumstances. Apologies for enforc
 ing this rule\, but to facilitate the course\, DSC has to employ staff and
  purchase documentation in advance\, and overheads are obviously involved.
ATTACH;FMTTYPE=image/jpeg:https://www.donaghadeesc.co.uk/wp-content/upload
 s/2021/07/deetopper1.webp
CATEGORIES:Junior Sailing Course
END:VEVENT
END:VCALENDAR