BEGIN:VCALENDAR
VERSION:2.0
PRODID:-//wp-events-plugin.com//7.2.3.1//EN
TZID:Europe/London
X-WR-TIMEZONE:Europe/London
BEGIN:VEVENT
UID:955@donaghadeesc.co.uk
DTSTART;TZID=Europe/London:20240721T113000
DTEND;TZID=Europe/London:20240721T160000
DTSTAMP:20240707T094553Z
URL:https://www.donaghadeesc.co.uk/events/post-regatta-bbq-copeland-island
 s-members-only-please/
SUMMARY:Post Regatta BBQ - Copeland Islands (Members Only Please)
DESCRIPTION:Join us on the Copeland Island (weather permitting) for an info
 rmal BYO BBQ on Sunday 21st July!\n\nIdeally race over with a modified rac
 e series event on the day - first gun tba\, but approximately 11.30am to a
 llow for tides there and back\, or bring a cruiser\, or get a lift on one 
 of the ribs!\n\nEvent is free\, but very limited numbers for lifts over an
 d back again\, so DSC Members only please! Meeting in club if your sailing
  a dinghy or needing a lift\, otherwise see you there.\n\nBBQ will be prov
 ided to cook your meal - we'd appreciate some side salads etc for sharing 
 please.\n\nPlease select the mode of transport below to give us an idea of
  numbers - thanks!
ATTACH;FMTTYPE=image/jpeg:https://www.donaghadeesc.co.uk/wp-content/upload
 s/2024/07/WhatsApp-Image-2024-07-04-at-13.30.42_b74c6b09.jpg
CATEGORIES:Social Events
LOCATION:\, 
X-APPLE-STRUCTURED-LOCATION;VALUE=URI;X-ADDRESS=\, ;X-APPLE-RADIUS=100;X-TI
 TLE=:geo:0,0
END:VEVENT
BEGIN:VTIMEZONE
TZID:Europe/London
X-LIC-LOCATION:Europe/London
BEGIN:DAYLIGHT
DTSTART:20240331T020000
TZOFFSETFROM:+0000
TZOFFSETTO:+0100
TZNAME:BST
END:DAYLIGHT
END:VTIMEZONE
END:VCALENDAR