BEGIN:VCALENDAR
VERSION:2.0
PRODID:-//wp-events-plugin.com//7.2.3.1//EN
TZID:Europe/London
X-WR-TIMEZONE:Europe/London
BEGIN:VEVENT
UID:877@donaghadeesc.co.uk
DTSTART:20240526T090000Z
DTEND:20240526T180000Z
DTSTAMP:20240524T093647Z
URL:https://www.donaghadeesc.co.uk/events/itca-topper-ireland-2024-officia
 l-entry/
SUMMARY:ITCA Topper Ireland Traveller 3 2024
DESCRIPTION:Welcome to Donaghadee Sailing Club's fun filled Topper travelle
 r\, back for 2024!\n\nIt's been a few years since we've been able to run t
 his event for the topper class\, but we're back - as a full on\, one day o
 nly event! So come along to Donaghadee\, race in the traveller event\, and
  get to experience some of our weird\, wonderful and infamous tidal stream
 s. It's all about getting practise at starts\, mark rounding\, finishes\,
  making new friends &amp\; having fun\, so whether your a seasoned racer o
 r just starting out on your topper journey this event is for you!\nThe  D
 SC clubhouse will be open and parents etc welcome to enjoy the racing from
  our members lounge\, balcony room\, or hopefully in the sunshine in our s
 heltered courtyard whilst enjoying some of our legendary hospitality\, wit
 h teas/ coffees / snacks &amp\; drinks from the bar. We will have breakfas
 t baps on race morning for competitors and their parents\, but don't plan 
 on offering a post event BBQ this year.\nPlease fill in the linked Medical
  Consent form and bring with you\, to hand in at the event registration. T
 he registration will be open  from 8.30am on the Sunday 26th May morning 
 in the training room\, access via the gate at the front of the clubhouse. 
 It'll be possible to unload your topper and equipment and leave overnight 
 in our dinghy park if required.\nMedical Consent form is available for dow
 nload here: Medical-Form\nNotice of Race is available here: Topper-IRL-Not
 ice-of-Race\nSailing Instructions are available here: Sailing-Instructions
 \nHope to see you all there\, it’s shaping up to be a great day.
ATTACH;FMTTYPE=image/jpeg:https://www.donaghadeesc.co.uk/wp-content/upload
 s/2024/05/WhatsApp-Image-2024-05-06-at-17.47.37_794fdf7f.jpg
CATEGORIES:Open Championships
LOCATION:Donaghadee Sailing Club\, 20 Shore Street\, Donaghadee\, Co Down\,
  BT21 0DG
GEO:54.643929;-5.538809
X-APPLE-STRUCTURED-LOCATION;VALUE=URI;X-ADDRESS=20 Shore Street\, Donaghade
 e\, Co Down\, BT21 0DG\, United Kingdom;X-APPLE-RADIUS=100;X-TITLE=Donagha
 dee Sailing Club:geo:54.643929,-5.538809
END:VEVENT
END:VCALENDAR