BEGIN:VCALENDAR
VERSION:2.0
PRODID:-//wp-events-plugin.com//7.2.3.1//EN
TZID:Europe/London
X-WR-TIMEZONE:Europe/London
BEGIN:VEVENT
UID:134@donaghadeesc.co.uk
DTSTART:20190531T190000Z
DTEND:20190531T200000Z
DTSTAMP:20190530T185533Z
URL:https://www.donaghadeesc.co.uk/events/friday-bright-nights-sailing/
SUMMARY:Friday Bright Nights Sailing - 31st May 7pm Session
DESCRIPTION:Juniors Bright Night Sailing - this is your opportunity to get
  your children (U18's) on the water to try out sailing and have some fun
 .\n\nThere are  sessions planned starting Friday 31st May through until 
 24th August.\n\n&nbsp\;\n\nPlease don't book helms here!\n\nDue to overwhe
 lming demand and a great turnout at the registration night there will now 
 be 3 sessions in the initial nights\, 25 places available to book for eit
 her the 6pm\,  7pm or 8pm sessions.\n\nTo make it fair and accessible to 
 all\, bookings will open on the Tuesday at 7pm before each session and cl
 ose again on Thursday at 11pm before each session. Apologies but this isn'
 t a walk in event - a booking must be made.\n\nTo enable smooth switchover
  between the sessions and maximise the time on the water please arrive ear
 ly to book in and be ready to go onto the water at your booked time alloca
 tion \;-)\n\nPlease bring gear you don't mind getting wet including old tr
 ainers. Buoyancy aids will be provided. If you own a wetsuit please bring 
 it!\n\nNo previous experience required.\n\nAll participants wishing to sai
 l on a Friday Bright Night's session at Donaghadee Sailing Club\, MUST be
  existing members or become a member at the registration night Friday the 
 17th of May. The number of places is limited and will be allocated on a f
 irst come first served basis\, a waiting list will be maintained if spaces
  become available at a later date.\n\n&nbsp\;\n\n&nbsp\;
CATEGORIES:Junior Sailing Course
LOCATION:\, 
X-APPLE-STRUCTURED-LOCATION;VALUE=URI;X-ADDRESS=\, ;X-APPLE-RADIUS=100;X-TI
 TLE=:geo:0,0
END:VEVENT
END:VCALENDAR