BEGIN:VCALENDAR
VERSION:2.0
PRODID:-//wp-events-plugin.com//7.2.3.1//EN
TZID:Europe/London
X-WR-TIMEZONE:Europe/London
BEGIN:VEVENT
UID:1169@donaghadeesc.co.uk
DTSTART;TZID=Europe/London:20260404T000000
DTEND;TZID=Europe/London:20260406T000000
DTSTAMP:20260126T094638Z
URL:https://www.donaghadeesc.co.uk/events/easter-cruise-in-company/
SUMMARY:Easter Cruise in Company
DESCRIPTION:No idea where we will be heading\, but several keel boats from 
 the club are determined to sail somewhere over Easter.  Crew spaces will 
 be available and members are invited to join us regardless of your experie
 nce.
ATTACH;FMTTYPE=image/jpeg:https://www.donaghadeesc.co.uk/wp-content/upload
 s/2023/03/IMG_20220918_1130401-scaled.jpg
END:VEVENT
BEGIN:VTIMEZONE
TZID:Europe/London
X-LIC-LOCATION:Europe/London
BEGIN:DAYLIGHT
DTSTART:20260329T020000
TZOFFSETFROM:+0000
TZOFFSETTO:+0100
TZNAME:BST
END:DAYLIGHT
END:VTIMEZONE
END:VCALENDAR