BEGIN:VCALENDAR
VERSION:2.0
PRODID:-//wp-events-plugin.com//7.2.3.1//EN
TZID:Europe/London
X-WR-TIMEZONE:Europe/London
BEGIN:VEVENT
UID:196@donaghadeesc.co.uk
DTSTART:20200404T093000Z
DTEND:20200504T123000Z
DTSTAMP:20200319T143915Z
URL:https://www.donaghadeesc.co.uk/events/dsc-vhf-radio-etiquette/
SUMMARY:DSC VHF Radio Etiquette
DESCRIPTION:A mandatory session for anybody wanting to use a VHF radio whil
 st participating in DSC club safety / events or training this season if th
 ey don't hold a personal vhf operators license and wish to operate under t
 he club's license.\n\nA shore based refresher to cover the syllabus of the
  RYA VHF course\, covering all the basics\,  essentials\, and radio etiqu
 ette\, preparing a participant to take the official RYA course if they wis
 h\, a practical and interactive course. The RYA exam is not included in th
 is course.\n\nA  couple of hours out of your busy lives!\n\n&nbsp\;\n\n&n
 bsp\;
CATEGORIES:Shore Based Courses
LOCATION:\, 
X-APPLE-STRUCTURED-LOCATION;VALUE=URI;X-ADDRESS=\, ;X-APPLE-RADIUS=100;X-TI
 TLE=:geo:0,0
END:VEVENT
END:VCALENDAR