BEGIN:VCALENDAR
VERSION:2.0
PRODID:-//wp-events-plugin.com//7.2.3.1//EN
TZID:Europe/London
X-WR-TIMEZONE:Europe/London
BEGIN:VEVENT
UID:1097@donaghadeesc.co.uk
DTSTART;VALUE=DATE:20260331
DTEND;VALUE=DATE:20260401
DTSTAMP:20251031T081530Z
URL:https://www.donaghadeesc.co.uk/events/autumn-winter-dinghy-park-fees-2
 025-26-members-only/
SUMMARY:Autumn/Winter Dinghy Park Fees 2025/26 - Members only
DESCRIPTION:If you have or intend to keep a kayak\, canoe\, dinghy\, boat\,
  trailer or another vessel in the DSC dinghy park for all or part of the A
 utumn and Winter 2026 please make payment for the your boat. Please select
  the correct category from the list below.\n\nAlternatively card payment c
 an be processed in the club bar but please inform the Sailing Sec when you
  have paid.\n\nA sticker will be issued to you by the Sailing Secretary (o
 r their designated representative)\, for attachment in a prominent positio
 n on the transom of the boat once you've paid.\n\nSpace in the dinghy park
  is now tight\, before putting a boat in the dinghy park please ask permis
 sion from a member of the Sailing Committee first. If you have a boat alre
 ady in the park please ensure it is kept in its allocated space to enable 
 other users to access their boats easily.\n\nPeriodic checks are made for 
 boats overstaying their temporary residence without authorisation - we und
 erstand that during an event a day or two here and there is often necessar
 y.\n\nAll boats stored in the dinghy park must be insured and owned by a c
 urrent DSC member.\n\nPlease select the appropriate category for payment b
 elow\, depending on the size of boat you have!\n\nPrices are:\n\n\n\nBoats
 /Trailers up to 14ft\n£39\n\n\nBoats/Trailers up to 21ft\n£50\n\n\nBoats
 /Trailers over 21ft\nand Catamarans\n£61\n\n\nCanoes or Windsurfers\n£17
 \n\n\n\n&nbsp\;\n\nAny boat found to be consistently  breaking the rules 
 will be removed from the dinghy park and only returned when the owner has 
 paid the due fees.\n\nThanks for your cooperation - DSC General Committee 
 &amp\; Sailing Committee.
CATEGORIES:Dinghy Park
END:VEVENT
END:VCALENDAR